BEGIN:VCALENDAR
VERSION:2.0
PRODID:-//Hamburger Tisch-Tennis Verband e.V. - ECPv6.15.18//NONSGML v1.0//EN
CALSCALE:GREGORIAN
METHOD:PUBLISH
X-ORIGINAL-URL:https://hamburg-tischtennis.de
X-WR-CALDESC:Veranstaltungen für Hamburger Tisch-Tennis Verband e.V.
REFRESH-INTERVAL;VALUE=DURATION:PT1H
X-Robots-Tag:noindex
X-PUBLISHED-TTL:PT1H
BEGIN:VTIMEZONE
TZID:Europe/Berlin
BEGIN:DAYLIGHT
TZOFFSETFROM:+0100
TZOFFSETTO:+0200
TZNAME:CEST
DTSTART:20250330T010000
END:DAYLIGHT
BEGIN:STANDARD
TZOFFSETFROM:+0200
TZOFFSETTO:+0100
TZNAME:CET
DTSTART:20251026T010000
END:STANDARD
BEGIN:DAYLIGHT
TZOFFSETFROM:+0100
TZOFFSETTO:+0200
TZNAME:CEST
DTSTART:20260329T010000
END:DAYLIGHT
BEGIN:STANDARD
TZOFFSETFROM:+0200
TZOFFSETTO:+0100
TZNAME:CET
DTSTART:20261025T010000
END:STANDARD
BEGIN:DAYLIGHT
TZOFFSETFROM:+0100
TZOFFSETTO:+0200
TZNAME:CEST
DTSTART:20270328T010000
END:DAYLIGHT
BEGIN:STANDARD
TZOFFSETFROM:+0200
TZOFFSETTO:+0100
TZNAME:CET
DTSTART:20271031T010000
END:STANDARD
END:VTIMEZONE
BEGIN:VEVENT
DTSTART;VALUE=DATE:20260912
DTEND;VALUE=DATE:20260913
DTSTAMP:20260421T060105
CREATED:20260407T095028Z
LAST-MODIFIED:20260407T095028Z
UID:10000231-1789171200-1789257599@hamburg-tischtennis.de
SUMMARY:Verbandsendrunde 2026 - Mädchen 11+15 und Jugend 13+19
DESCRIPTION:
URL:https://hamburg-tischtennis.de/termine/verbandsendrunde-2026-maedchen-1115-und-jugend-1319/
CATEGORIES:Jugend
ATTACH;FMTTYPE=image/png:https://hamburg-tischtennis.de/wp-content/uploads/17.png
END:VEVENT
BEGIN:VEVENT
DTSTART;VALUE=DATE:20260913
DTEND;VALUE=DATE:20260914
DTSTAMP:20260421T060105
CREATED:20260407T095141Z
LAST-MODIFIED:20260407T095211Z
UID:10000232-1789257600-1789343999@hamburg-tischtennis.de
SUMMARY:Verbandsendrunde 2026 - Mädchen 13+19 und Jugend 11+15
DESCRIPTION:Teilnehmerinnen Verbandsendrunde 2026 – Mädchen2025 / 2026Aktuelles JugendJugendDownload
URL:https://hamburg-tischtennis.de/termine/verbandsendrunde-2026-maedchen-1319-und-jugend-1115/
CATEGORIES:Jugend
ATTACH;FMTTYPE=image/png:https://hamburg-tischtennis.de/wp-content/uploads/17.png
END:VEVENT
END:VCALENDAR