BEGIN:VCALENDAR
VERSION:2.0
PRODID:-//Hamburger Tisch-Tennis Verband e.V. - ECPv6.15.18//NONSGML v1.0//EN
CALSCALE:GREGORIAN
METHOD:PUBLISH
X-ORIGINAL-URL:https://hamburg-tischtennis.de
X-WR-CALDESC:Veranstaltungen für Hamburger Tisch-Tennis Verband e.V.
REFRESH-INTERVAL;VALUE=DURATION:PT1H
X-Robots-Tag:noindex
X-PUBLISHED-TTL:PT1H
BEGIN:VTIMEZONE
TZID:Europe/Berlin
BEGIN:DAYLIGHT
TZOFFSETFROM:+0100
TZOFFSETTO:+0200
TZNAME:CEST
DTSTART:20250330T010000
END:DAYLIGHT
BEGIN:STANDARD
TZOFFSETFROM:+0200
TZOFFSETTO:+0100
TZNAME:CET
DTSTART:20251026T010000
END:STANDARD
BEGIN:DAYLIGHT
TZOFFSETFROM:+0100
TZOFFSETTO:+0200
TZNAME:CEST
DTSTART:20260329T010000
END:DAYLIGHT
BEGIN:STANDARD
TZOFFSETFROM:+0200
TZOFFSETTO:+0100
TZNAME:CET
DTSTART:20261025T010000
END:STANDARD
BEGIN:DAYLIGHT
TZOFFSETFROM:+0100
TZOFFSETTO:+0200
TZNAME:CEST
DTSTART:20270328T010000
END:DAYLIGHT
BEGIN:STANDARD
TZOFFSETFROM:+0200
TZOFFSETTO:+0100
TZNAME:CET
DTSTART:20271031T010000
END:STANDARD
END:VTIMEZONE
BEGIN:VEVENT
DTSTART;VALUE=DATE:20260204
DTEND;VALUE=DATE:20260205
DTSTAMP:20260420T101030
CREATED:20260105T122907Z
LAST-MODIFIED:20260105T122907Z
UID:10000209-1770163200-1770249599@hamburg-tischtennis.de
SUMMARY:Meldeschluss HRLT 2026 - Jugend 13\,15\,19
DESCRIPTION:
URL:https://hamburg-tischtennis.de/termine/meldeschluss-hrlt-2026-jugend-131519/
CATEGORIES:Meldeschluss
ATTACH;FMTTYPE=image/png:https://hamburg-tischtennis.de/wp-content/uploads/17.png
END:VEVENT
BEGIN:VEVENT
DTSTART;VALUE=DATE:20260214
DTEND;VALUE=DATE:20260215
DTSTAMP:20260420T101030
CREATED:20260105T121548Z
LAST-MODIFIED:20260209T101353Z
UID:10000202-1771027200-1771113599@hamburg-tischtennis.de
SUMMARY:Verbandsvorrunde 2026 - Jugend 19
DESCRIPTION:Ausschreibung Hamburger Ranglistenturnier 2026 – Jugend2025 / 2026Aktuelles JugendJugendDownload \nSpielstärkenreihenfolge HRLT 2026 – Jugend 192025 / 2026JugendDownload
URL:https://hamburg-tischtennis.de/termine/verbandsvorrunde-2026-jugend-19/
CATEGORIES:Jugend
ATTACH;FMTTYPE=image/png:https://hamburg-tischtennis.de/wp-content/uploads/17.png
END:VEVENT
BEGIN:VEVENT
DTSTART;VALUE=DATE:20260215
DTEND;VALUE=DATE:20260216
DTSTAMP:20260420T101030
CREATED:20260105T121648Z
LAST-MODIFIED:20260209T101257Z
UID:10000203-1771113600-1771199999@hamburg-tischtennis.de
SUMMARY:Verbandsvorrunde 2026 - Jugend 13
DESCRIPTION:Ausschreibung Hamburger Ranglistenturnier 2026 – Jugend2025 / 2026Aktuelles JugendJugendDownload \nSpielstärkenreihenfolge HRLT 2026 – Jugend 132025 / 2026Aktuelles JugendJugendDownload
URL:https://hamburg-tischtennis.de/termine/verbandsvorrunde-2026-jugend-13/
CATEGORIES:Jugend
ATTACH;FMTTYPE=image/png:https://hamburg-tischtennis.de/wp-content/uploads/17.png
END:VEVENT
BEGIN:VEVENT
DTSTART;VALUE=DATE:20260221
DTEND;VALUE=DATE:20260222
DTSTAMP:20260420T101030
CREATED:20260105T121741Z
LAST-MODIFIED:20260209T101326Z
UID:10000204-1771632000-1771718399@hamburg-tischtennis.de
SUMMARY:Verbandsvorrunde 2026 - Jugend 15
DESCRIPTION:Ausschreibung Hamburger Ranglistenturnier 2026 – Jugend2025 / 2026Aktuelles JugendJugendDownload \nSpielstärkenreihenfolge HRLT 2026 – Jugend 152025 / 2026Aktuelles JugendJugendDownload
URL:https://hamburg-tischtennis.de/termine/verbandsvorrunde-2026-jugend-15/
CATEGORIES:Jugend
ATTACH;FMTTYPE=image/png:https://hamburg-tischtennis.de/wp-content/uploads/17.png
END:VEVENT
END:VCALENDAR