BEGIN:VCALENDAR
VERSION:2.0
PRODID:-//Hamburger Tisch-Tennis Verband e.V. - ECPv6.15.18//NONSGML v1.0//EN
CALSCALE:GREGORIAN
METHOD:PUBLISH
X-ORIGINAL-URL:https://hamburg-tischtennis.de
X-WR-CALDESC:Veranstaltungen für Hamburger Tisch-Tennis Verband e.V.
REFRESH-INTERVAL;VALUE=DURATION:PT1H
X-Robots-Tag:noindex
X-PUBLISHED-TTL:PT1H
BEGIN:VTIMEZONE
TZID:Europe/Berlin
BEGIN:DAYLIGHT
TZOFFSETFROM:+0100
TZOFFSETTO:+0200
TZNAME:CEST
DTSTART:20250330T010000
END:DAYLIGHT
BEGIN:STANDARD
TZOFFSETFROM:+0200
TZOFFSETTO:+0100
TZNAME:CET
DTSTART:20251026T010000
END:STANDARD
BEGIN:DAYLIGHT
TZOFFSETFROM:+0100
TZOFFSETTO:+0200
TZNAME:CEST
DTSTART:20260329T010000
END:DAYLIGHT
BEGIN:STANDARD
TZOFFSETFROM:+0200
TZOFFSETTO:+0100
TZNAME:CET
DTSTART:20261025T010000
END:STANDARD
BEGIN:DAYLIGHT
TZOFFSETFROM:+0100
TZOFFSETTO:+0200
TZNAME:CEST
DTSTART:20270328T010000
END:DAYLIGHT
BEGIN:STANDARD
TZOFFSETFROM:+0200
TZOFFSETTO:+0100
TZNAME:CET
DTSTART:20271031T010000
END:STANDARD
END:VTIMEZONE
BEGIN:VEVENT
DTSTART;VALUE=DATE:20260107
DTEND;VALUE=DATE:20260108
DTSTAMP:20260420T114518
CREATED:20251208T102921Z
LAST-MODIFIED:20251208T102921Z
UID:10000201-1767744000-1767830399@hamburg-tischtennis.de
SUMMARY:Meldeschluss Hamburger Meisterschaften 2026 Damen/Erwachsene
DESCRIPTION:Ausschreibung Hamburger Meisterschaften 2026 Damen/Erwachsene2025 / 2026erwachseneDownload
URL:https://hamburg-tischtennis.de/termine/meldeschluss-hamburger-meisterschaften-2026-damen-erwachsene/
CATEGORIES:Meldeschluss
ATTACH;FMTTYPE=image/png:https://hamburg-tischtennis.de/wp-content/uploads/5-2.png
END:VEVENT
BEGIN:VEVENT
DTSTART;VALUE=DATE:20260114
DTEND;VALUE=DATE:20260115
DTSTAMP:20260420T114518
CREATED:20251202T132054Z
LAST-MODIFIED:20251202T132420Z
UID:10000199-1768348800-1768435199@hamburg-tischtennis.de
SUMMARY:Meldeschluss Hamburger Meisterschaft 2026 Senioren/innen
DESCRIPTION:
URL:https://hamburg-tischtennis.de/termine/meldeschluss-hamburger-meisterschaft-2026-senioren-innen/
CATEGORIES:Meldeschluss
ATTACH;FMTTYPE=image/png:https://hamburg-tischtennis.de/wp-content/uploads/5-2.png
END:VEVENT
BEGIN:VEVENT
DTSTART;TZID=Europe/Berlin:20260117T080000
DTEND;TZID=Europe/Berlin:20260118T170000
DTSTAMP:20260420T114518
CREATED:20251208T102649Z
LAST-MODIFIED:20251208T102749Z
UID:10000200-1768636800-1768755600@hamburg-tischtennis.de
SUMMARY:Hamburger Meisterschaften 2026 Damen/Erwachsene
DESCRIPTION:Ausschreibung Hamburger Meisterschaften 2026 Damen/Erwachsene2025 / 2026erwachseneDownload \nSpielstärkenreihenfolge Hamburger Meisterschaften 2026 Damen (incl. Doppel und Mixed)2025 / 2026erwachseneDownload \nSpielstärkenreihenfolge Hamburger Meisterschaften 2026 Erwachsene (incl. Doppel)2025 / 2026erwachseneDownload
URL:https://hamburg-tischtennis.de/termine/hamburger-meisterschaften-2026-damen-erwachsene/
CATEGORIES:Erwachsene
ATTACH;FMTTYPE=image/png:https://hamburg-tischtennis.de/wp-content/uploads/5-2.png
END:VEVENT
BEGIN:VEVENT
DTSTART;TZID=Europe/Berlin:20260124T080000
DTEND;TZID=Europe/Berlin:20260125T170000
DTSTAMP:20260420T114518
CREATED:20251202T131917Z
LAST-MODIFIED:20260126T045138Z
UID:10000198-1769241600-1769360400@hamburg-tischtennis.de
SUMMARY:Hamburger Meisterschaften 2026 Senioren/innen
DESCRIPTION:Ergebnisse Hamburger Meisterschaften 2026 – Senioren/innen S40-S552025 / 2026Aktuelles SeniorenSeniorenDownload \nErgebnisse Hamburger Meisterschaften 2026 – Senioren/innen S60-S80Download \nAusschreibung Hamburger Meisterschaften Senioren/innen 20262025 / 2026Aktuelles SeniorenSeniorenDownload
URL:https://hamburg-tischtennis.de/termine/hamburger-meisterschaften-2026-senioren-innen/
CATEGORIES:Senioren
ATTACH;FMTTYPE=image/png:https://hamburg-tischtennis.de/wp-content/uploads/5-2.png
END:VEVENT
END:VCALENDAR